BEGIN:VCALENDAR
VERSION:2.0
PRODID:-//Mun Impact - ECPv6.15.13//NONSGML v1.0//EN
CALSCALE:GREGORIAN
METHOD:PUBLISH
X-ORIGINAL-URL:https://munimpact.org
X-WR-CALDESC:Events for Mun Impact
REFRESH-INTERVAL;VALUE=DURATION:PT1H
X-Robots-Tag:noindex
X-PUBLISHED-TTL:PT1H
BEGIN:VTIMEZONE
TZID:UTC
BEGIN:STANDARD
TZOFFSETFROM:+0000
TZOFFSETTO:+0000
TZNAME:UTC
DTSTART:20250101T000000
END:STANDARD
END:VTIMEZONE
BEGIN:VEVENT
DTSTART;VALUE=DATE:20260411
DTEND;VALUE=DATE:20260412
DTSTAMP:20260423T133251
CREATED:20250926T153655Z
LAST-MODIFIED:20250926T160537Z
UID:4522-1775865600-1775951999@munimpact.org
SUMMARY:International School of Monterey Model United Nations Conference (ISMMUN)
DESCRIPTION:A middle school MUN conference for youth in the Monterey Bay region.\nFor more information\, please see the conference website: https://sites.google.com/munimpact.org/issmun/home
URL:https://munimpact.org/event/international-school-of-monterey-model-united-nations-conference-ismmun/
ATTACH;FMTTYPE=image/webp:https://munimpact.org/wp-content/uploads/2021/03/international.webp
END:VEVENT
END:VCALENDAR